BEGIN:VCALENDAR
VERSION:2.0
PRODID:-//SportPlan//Event Calendar//EN
CALSCALE:GREGORIAN
BEGIN:VEVENT
UID:fd795290-b84b-4fa0-a146-b7372a8c7086@sportplan.local
DTSTAMP:20260420T194419Z
DTSTART;VALUE=DATE:20260421
DTEND;VALUE=DATE:20260422
SUMMARY:Põlva 3. teisipäevak
DESCRIPTION:Põlva 3. teisipäevak is an amateur orienteering event in the Estonian Orienteering Federation calendar\, scheduled for 21 April 2026 near Hatiku in Põlva County\, Estonia. The official federation detail page lists organizer Kobras\, links to the organizer's Tuesday-series page\, and places the event at Hatiku-Vargamäe holiday homes near the Põlva-Tartu road.
LOCATION:Hatiku-Vargamäe\, Põlva vald\, Põlva maakond\, Estonia
URL:https://sportplan.vercel.app/it/events/polva-3-teisipaevak-2026-04-21
END:VEVENT
END:VCALENDAR
