BEGIN:VCALENDAR
VERSION:2.0
PRODID:-//SportPlan//Event Calendar//EN
CALSCALE:GREGORIAN
BEGIN:VEVENT
UID:9606a54a-3333-4c45-a666-b6498a079823@sportplan.local
DTSTAMP:20260420T195012Z
DTSTART;VALUE=DATE:20260707
DTEND;VALUE=DATE:20260708
SUMMARY:Põlva 14. teisipäevak
DESCRIPTION:Põlva 14. teisipäevak is an official amateur orienteering event in the Palojärve-Aarna area of Põlva County\, Estonia on 7 July 2026. The official Estonian Orienteering Federation event detail page confirms the date\, organizer Kobras\, and Palojärve-Aarna venue\, while the official OK Põlva Kobras Tuesday-series schedule adds Aarna and Põlva-Saverna road 9 km location context for this public weekday participation event.
LOCATION:Aarna\, Palojärve-Aarna\, Põlva-Saverna tee 9 km
URL:https://sportplan.vercel.app/it/events/polva-14-teisipaevak-palojarve-aarna-2026-07-07
END:VEVENT
END:VCALENDAR
