BEGIN:VCALENDAR
VERSION:2.0
PRODID:-//SportPlan//Event Calendar//EN
CALSCALE:GREGORIAN
BEGIN:VEVENT
UID:651f3225-4d17-40e1-a478-6f2b7781ee9b@sportplan.local
DTSTAMP:20260420T194735Z
DTSTART;VALUE=DATE:20260616
DTEND;VALUE=DATE:20260617
SUMMARY:Põlva 11. teisipäevak
DESCRIPTION:Põlva 11. teisipäevak is an official amateur orienteering event in Mõujärve\, Põlva County\, Estonia on 16 June 2026. The official Estonian Orienteering Federation event detail page confirms the date\, organizer Kobras\, and Mõujärve venue\, while the official OK Põlva Kobras Tuesday-series schedule adds Partsi-Timo tee 7 km location context for this public weekday participation event.
LOCATION:Mõujärve\, Partsi-Timo tee 7 km
URL:https://sportplan.vercel.app/it/events/polva-11-teisipaevak-moujarve-2026-06-16
END:VEVENT
END:VCALENDAR
