BEGIN:VCALENDAR
VERSION:2.0
PRODID:-//SportPlan//Event Calendar//EN
CALSCALE:GREGORIAN
BEGIN:VEVENT
UID:4de96f42-8a75-4cd7-a344-f0b060110bbc@sportplan.local
DTSTAMP:20260420T194732Z
DTSTART;VALUE=DATE:20260609
DTEND;VALUE=DATE:20260610
SUMMARY:Põlva 10. teisipäevak
DESCRIPTION:Põlva 10. teisipäevak is an amateur weekday orienteering event in Põlva County\, Estonia. The Estonian Orienteering Federation calendar lists the event for 9 June 2026\, and the official OK Põlva Kobras Tuesday-series schedule places it at Kadaja near the Põlva-Saverna road.
LOCATION:Kadaja küla\, Põlva vald\, Põlva maakond\, Estonia
URL:https://sportplan.vercel.app/it/events/polva-10-teisipaevak-kadaja-2026-06-09
END:VEVENT
END:VCALENDAR
