BEGIN:VCALENDAR
VERSION:2.0
PRODID:-//SportPlan//Event Calendar//EN
CALSCALE:GREGORIAN
BEGIN:VEVENT
UID:b0575507-df55-402d-9507-4fbac3098432@sportplan.local
DTSTAMP:20260420T201531Z
DTSTART;VALUE=DATE:20260803
DTEND;VALUE=DATE:20260804
SUMMARY:Plenilunio Tejeda Trail
DESCRIPTION:Plenilunio Tejeda Trail se celebrará el 3 de agosto de 2026 en Tejeda\, Gran Canaria\, Canarias. Es una cita ideal para quienes buscan un recorrido bien organizado\, buen ambiente y una experiencia deportiva memorable. La distancia prevista es de 11\,5 km\, lo que la convierte en una opción atractiva tanto para participantes habituales como para quienes quieren marcarse un nuevo reto.
LOCATION:Tejeda\, Gran Canaria\, Canarias
URL:https://sportplan.vercel.app/it/events/plenilunio-tejeda-trail-tejeda-2026-08-03-11-5k
END:VEVENT
END:VCALENDAR
