BEGIN:VCALENDAR
VERSION:2.0
PRODID:-//SportPlan//Event Calendar//EN
CALSCALE:GREGORIAN
BEGIN:VEVENT
UID:05db2917-38d1-4ebb-b868-174ae0ce799f@sportplan.local
DTSTAMP:20260420T201629Z
DTSTART;VALUE=DATE:20260921
DTEND;VALUE=DATE:20260922
SUMMARY:Piñón Race - Trail
DESCRIPTION:Piñón Race - Trail se celebrará el 21 septiembre 2026 en Pedrajas de San Esteban\, Valladolid\, Castilla y León\, ofreciendo una cita ideal para quienes buscan un reto bien organizado y un gran ambiente deportivo. La jornada invita a disfrutar del entorno\, compartir la experiencia con otros participantes y vivir la energía del evento de principio a fin.
LOCATION:Pedrajas de San Esteban\, Valladolid\, Castilla y León
URL:https://sportplan.vercel.app/it/events/pinon-race-trail-pedrajas-de-san-esteban-2026-09-21
END:VEVENT
END:VCALENDAR
