BEGIN:VCALENDAR
VERSION:2.0
PRODID:-//SportPlan//Event Calendar//EN
CALSCALE:GREGORIAN
BEGIN:VEVENT
UID:85d6e164-065f-42d9-a57d-dec5ced7d1fc@sportplan.local
DTSTAMP:20260420T181827Z
DTSTART;VALUE=DATE:20260418
DTEND;VALUE=DATE:20260419
SUMMARY:PH Supersprint Kros Duatlon Slavonski Brod 2026
DESCRIPTION:PH Supersprint Kros Duatlon Slavonski Brod 2026 is an official amateur cross duathlon in Slavonski Brod\, Croatia on 18 April 2026. The Croatian Triathlon Federation announcement says the national championship weekend in Tvrđava Brod includes supersprint and sprint cross duathlon formats and welcomes recreational participants alongside championship racers\, making this a valid open-participation event from an official federation source.
LOCATION:Tvrđava Brod\, Slavonski Brod
URL:https://sportplan.vercel.app/it/events/ph-supersprint-kros-duatlon-slavonski-brod-2026-2026-04-18
END:VEVENT
END:VCALENDAR
