BEGIN:VCALENDAR
VERSION:2.0
PRODID:-//SportPlan//Event Calendar//EN
CALSCALE:GREGORIAN
BEGIN:VEVENT
UID:58641d27-df05-49c4-b649-bc9eeb50164b@sportplan.local
DTSTAMP:20260420T211350Z
DTSTART;VALUE=DATE:20260524
DTEND;VALUE=DATE:20260525
SUMMARY:PH Sprint Duatlon Dugo Selo 2026
DESCRIPTION:PH Sprint Duatlon Dugo Selo 2026 is an official Croatian Triathlon Federation age-group and open-category duathlon event in Dugo Selo\, Croatia on 24 May 2026. The federation's 2026 official competition calendar lists it as the national championship sprint duathlon for U17\, U19\, APS\, and DS categories\, supporting amateur age-group participation.
LOCATION:Dugo Selo
URL:https://sportplan.vercel.app/it/events/ph-sprint-duatlon-dugo-selo-2026-2026-05-24
END:VEVENT
END:VCALENDAR
