BEGIN:VCALENDAR
VERSION:2.0
PRODID:-//SportPlan//Event Calendar//EN
CALSCALE:GREGORIAN
BEGIN:VEVENT
UID:38796ea8-1963-41d0-ae6c-da3d1e291708@sportplan.local
DTSTAMP:20260420T211725Z
DTSTART;VALUE=DATE:20260711
DTEND;VALUE=DATE:20260712
SUMMARY:PH Olimpijski Triatlon za Dobne Skupine Zagreb 2026
DESCRIPTION:PH Olimpijski Triatlon za Dobne Skupine Zagreb 2026 is an official Croatian Triathlon Federation Olympic-distance triathlon for age groups in Zagreb\, Croatia on 11 July 2026. The federation's official 2026 competition calendar explicitly labels it 'za dobne skupine'\, which strongly signals amateur age-group participation rather than elite-only racing.
LOCATION:Zagreb
URL:https://sportplan.vercel.app/it/events/ph-olimpijski-triatlon-za-dobne-skupine-zagreb-2026-2026-07-11
END:VEVENT
END:VCALENDAR
