BEGIN:VCALENDAR
VERSION:2.0
PRODID:-//SportPlan//Event Calendar//EN
CALSCALE:GREGORIAN
BEGIN:VEVENT
UID:d4f80add-fb25-4bf5-92f8-527008e81954@sportplan.local
DTSTAMP:20260420T194458Z
DTSTART;VALUE=DATE:20260614
DTEND;VALUE=DATE:20260615
SUMMARY:Perth Marathon 2026
DESCRIPTION:Perth Marathon 2026 takes place in Perth\, Western Australia on June 14\, 2026. This event offers runners a well-organized race experience\, covering approximately 42.2 km. Expect an energizing atmosphere\, a motivating course\, and a great opportunity to enjoy race day in Perth\, Western Australia.
LOCATION:Perth\, Western Australia
URL:https://sportplan.vercel.app/it/events/perth-marathon-2026-perth-2026-06-14
END:VEVENT
END:VCALENDAR
