BEGIN:VCALENDAR
VERSION:2.0
PRODID:-//SportPlan//Event Calendar//EN
CALSCALE:GREGORIAN
BEGIN:VEVENT
UID:af1eea53-f4f2-4027-bd9a-5dc5cbf8de67@sportplan.local
DTSTAMP:20260420T211359Z
DTSTART;VALUE=DATE:20260927
DTEND;VALUE=DATE:20260928
SUMMARY:Perast Sprint Triathlon 2026
DESCRIPTION:Perast Sprint Triathlon 2026 is an official amateur triathlon in Perast\, Montenegro on 27 September 2026. The Montenegro Triathlon Federation's 2026 championship calendar lists Perast as the national championship sprint triathlon\, organized by TK Kotor\, and presents it as part of the official season program for athlete participation.
LOCATION:Perast
URL:https://sportplan.vercel.app/it/events/perast-sprint-triathlon-2026-perast-2026-09-27
END:VEVENT
END:VCALENDAR
