BEGIN:VCALENDAR
VERSION:2.0
PRODID:-//SportPlan//Event Calendar//EN
CALSCALE:GREGORIAN
BEGIN:VEVENT
UID:db3b50ce-10c3-48ce-b618-4071cc9281ab@sportplan.local
DTSTAMP:20260420T194919Z
DTSTART;VALUE=DATE:20260506
DTEND;VALUE=DATE:20260507
SUMMARY:Peneda-Gerês Trail Aventure®
DESCRIPTION:Peneda-Gerês Trail Aventure® acontece em 6 maio 2026\, em Vilar da Veiga\, e oferece uma ótima oportunidade para quem procura uma experiência esportiva bem organizada. O evento apresenta um percurso com um percurso bem sinalizado\, pensado para aproveitar o ambiente\, manter um bom ritmo e viver um dia agradável ao lado de outros participantes.
LOCATION:Vilar da Veiga
URL:https://sportplan.vercel.app/it/events/peneda-geres-trail-aventure-vilar-da-veiga-2026-05-06
END:VEVENT
END:VCALENDAR
