BEGIN:VCALENDAR
VERSION:2.0
PRODID:-//SportPlan//Event Calendar//EN
CALSCALE:GREGORIAN
BEGIN:VEVENT
UID:97eb2c49-1e84-460a-88d8-bc0350b90898@sportplan.local
DTSTAMP:20260420T194710Z
DTSTART;VALUE=DATE:20260522
DTEND;VALUE=DATE:20260523
SUMMARY:Paradise Backyard Ultra
DESCRIPTION:
LOCATION:Paradise
URL:https://sportplan.vercel.app/it/events/paradise-backyard-ultra-paradise-2026-05-22
END:VEVENT
END:VCALENDAR
