BEGIN:VCALENDAR
VERSION:2.0
PRODID:-//SportPlan//Event Calendar//EN
CALSCALE:GREGORIAN
BEGIN:VEVENT
UID:8eec820a-9075-4740-a5f1-a8729b58602d@sportplan.local
DTSTAMP:20260420T211558Z
DTSTART;VALUE=DATE:20260905
DTEND;VALUE=DATE:20260906
SUMMARY:Pacific Toyota 10km Run - Run Port Douglas
DESCRIPTION:discovered via direct fetch of official Run Port Douglas race page\; timed 10km road race with marina start and Four Mile Beach finish
LOCATION:Port Douglas\, Queensland\, Australia
URL:https://sportplan.vercel.app/it/events/pacific-toyota-10km-run-run-port-douglas-2026-09-05
END:VEVENT
END:VCALENDAR
