BEGIN:VCALENDAR
VERSION:2.0
PRODID:-//SportPlan//Event Calendar//EN
CALSCALE:GREGORIAN
BEGIN:VEVENT
UID:3b758368-5e74-4cac-8104-8e92184e88d1@sportplan.local
DTSTAMP:20260420T214455Z
DTSTART;VALUE=DATE:20260815
DTEND;VALUE=DATE:20260816
SUMMARY:Paavo Nurmi Marathon
DESCRIPTION:discovered via TimeOutdoors Finland runs directory\; Finland had only 1 existing queue entry before this run\, so it was prioritized under the underrepresented-country rule.
LOCATION:Turku\, Finland
URL:https://sportplan.vercel.app/it/events/paavo-nurmi-marathon-2026-08-15
END:VEVENT
END:VCALENDAR
