BEGIN:VCALENDAR
VERSION:2.0
PRODID:-//SportPlan//Event Calendar//EN
CALSCALE:GREGORIAN
BEGIN:VEVENT
UID:7c50d566-b1ab-415b-9cbf-daa8457a7900@sportplan.local
DTSTAMP:20260420T194834Z
DTSTART;VALUE=DATE:20260510
DTEND;VALUE=DATE:20260511
SUMMARY:Ozona čempionāts 2026
DESCRIPTION:Three-stage relay orienteering event organized by orientēšanās klubs Ozons with the Latvian Orienteering Federation. The event center is near Andrejastes and Kungu masta forest roads by Gediņi in Vecumnieku pagasts\, with registration from 11:00 and relay start at 12:00. Terrain is inland dunes with a regular trail and road network in mostly pine forest\, with runnability from very good to medium.
LOCATION:Gediņi\, Vecumnieku pagasts\, Bauskas novads\, Latvia
URL:https://sportplan.vercel.app/it/events/ozona-cempionats-2026-gedini-2026-05-10
END:VEVENT
END:VCALENDAR
