BEGIN:VCALENDAR
VERSION:2.0
PRODID:-//SportPlan//Event Calendar//EN
CALSCALE:GREGORIAN
BEGIN:VEVENT
UID:09457916-50ca-4046-83d6-448f537e5a74@sportplan.local
DTSTAMP:20260420T194808Z
DTSTART;VALUE=DATE:20260524
DTEND;VALUE=DATE:20260525
SUMMARY:Ottawa Half Marathon presented by Desjardins
DESCRIPTION:discovered via official Run Ottawa 2026 event calendar\; fast flat course\, 95%+ sold out\; Tamarack Ottawa Race Weekend Day 2
LOCATION:Ottawa\, ON\, Canada
URL:https://sportplan.vercel.app/it/events/ottawa-half-marathon-presented-by-desjardins-2026-05-24
END:VEVENT
END:VCALENDAR
