BEGIN:VCALENDAR
VERSION:2.0
PRODID:-//SportPlan//Event Calendar//EN
CALSCALE:GREGORIAN
BEGIN:VEVENT
UID:4cfae255-2598-43c4-a38c-b1f304da9d51@sportplan.local
DTSTAMP:20260420T194841Z
DTSTART;VALUE=DATE:20260523
DTEND;VALUE=DATE:20260524
SUMMARY:Ottawa 10K presented by Otto's Ottawa
DESCRIPTION:discovered via official Run Ottawa 2026 event calendar\; flat fast course\, attracts world-class pro field\; Tamarack Ottawa Race Weekend
LOCATION:Ottawa\, ON\, Canada
URL:https://sportplan.vercel.app/it/events/ottawa-10k-presented-by-otto-s-ottawa-2026-05-23
END:VEVENT
END:VCALENDAR
