BEGIN:VCALENDAR
VERSION:2.0
PRODID:-//SportPlan//Event Calendar//EN
CALSCALE:GREGORIAN
BEGIN:VEVENT
UID:d6aa28a4-e216-4b1a-937c-a69dde021ef5@sportplan.local
DTSTAMP:20260420T194512Z
DTSTART;VALUE=DATE:20260503
DTEND;VALUE=DATE:20260504
SUMMARY:ORLEN Prague Marathon
DESCRIPTION:The official RunCzech page lists Vodafone Prague Marathon 2026 on 3 May 2026 in Prague. It is RunCzech's flagship mass-participation marathon weekend in the Czech capital and is open to amateur entrants.
LOCATION:Prague\, Czech Republic
URL:https://sportplan.vercel.app/it/events/orlen-prague-marathon-2026-05-03
END:VEVENT
END:VCALENDAR
