BEGIN:VCALENDAR
VERSION:2.0
PRODID:-//SportPlan//Event Calendar//EN
CALSCALE:GREGORIAN
BEGIN:VEVENT
UID:7940c5da-b878-40a0-ac31-d4972b0b41fe@sportplan.local
DTSTAMP:20260420T223903Z
DTSTART;VALUE=DATE:20270301
DTEND;VALUE=DATE:20270302
SUMMARY:Öppet Spår Monday 45 2027
DESCRIPTION:Öppet Spår Monday 45 is Vasaloppet’s open 45 km mass-participation ski race from Oxberg to Mora. The official organizer page lists the 2027 edition on 1 March 2027 as a freestyle race with both skating lane and classic tracks\, open to amateur participants from the year they turn 13.
LOCATION:Mora\, Dalarna County\, Sweden
URL:https://sportplan.vercel.app/it/events/oppet-spar-monday-45-2027-mora-2027-03-01
END:VEVENT
END:VCALENDAR
