BEGIN:VCALENDAR
VERSION:2.0
PRODID:-//SportPlan//Event Calendar//EN
CALSCALE:GREGORIAN
BEGIN:VEVENT
UID:47fb696e-5d22-46e5-8df8-6f952b488ca0@sportplan.local
DTSTAMP:20260420T194422Z
DTSTART;VALUE=DATE:20261107
DTEND;VALUE=DATE:20261108
SUMMARY:OlympusMan Xtreme 2026
DESCRIPTION:OlympusMan Xtreme is a long-distance point-to-point triathlon in Cyprus with 222 km total distance and major climbing\, starting on the Pafos coast and finishing high in the Troodos Mountains. The official page publishes the 2026 race date\, route overview\, cutoffs\, registration deadline\, and participant guidance.
LOCATION:Pafos\, Cyprus
URL:https://sportplan.vercel.app/it/events/olympusman-xtreme-2026
END:VEVENT
END:VCALENDAR
