BEGIN:VCALENDAR
VERSION:2.0
PRODID:-//SportPlan//Event Calendar//EN
CALSCALE:GREGORIAN
BEGIN:VEVENT
UID:8ad36723-d8d4-4547-b004-6fbf84325e6b@sportplan.local
DTSTAMP:20260420T194730Z
DTSTART;VALUE=DATE:20261018
DTEND;VALUE=DATE:20261019
SUMMARY:OlympusMan Trail Run 2026
DESCRIPTION:OlympusMan Trail Run 2026 is an official amateur trail-running event in the Troodos Mountains\, Cyprus on 18 October 2026. The official Activate Cyprus page lists Adventure Run\, Classic\, Marathon+\, and Ultra options\, all built around the trails near Troodos Square and the Olympus peak\, with public registration and age-group categories.
LOCATION:Troodos Square\, Cyprus
URL:https://sportplan.vercel.app/it/events/olympusman-trail-run-2026-troodos-2026-10-18
END:VEVENT
END:VCALENDAR
