BEGIN:VCALENDAR
VERSION:2.0
PRODID:-//SportPlan//Event Calendar//EN
CALSCALE:GREGORIAN
BEGIN:VEVENT
UID:f44534af-e74d-45d8-ab40-6c7d5ec0c472@sportplan.local
DTSTAMP:20260420T194423Z
DTSTART;VALUE=DATE:20261107
DTEND;VALUE=DATE:20261108
SUMMARY:OlympusMan 2026
DESCRIPTION:Experience the extraordinary with OlympusMan\, Cyprus's unique point-to-point triathlon from sea level in Pafos to the Olympus peak in the Troodos Mountains. The course travels through the Diarizos valley\, vineyards\, and conifer forests before finishing high in the mountains.
LOCATION:Pafos\, Cyprus
URL:https://sportplan.vercel.app/it/events/olympusman-2026
END:VEVENT
END:VCALENDAR
