BEGIN:VCALENDAR
VERSION:2.0
PRODID:-//SportPlan//Event Calendar//EN
CALSCALE:GREGORIAN
BEGIN:VEVENT
UID:75eab283-2a61-4caa-a1a4-782219cfe6cc@sportplan.local
DTSTAMP:20260421T003501Z
DTSTART;VALUE=DATE:20260815
DTEND;VALUE=DATE:20260816
SUMMARY:Oittaa Triathlon 2026
DESCRIPTION:Oittaa Triathlon 2026 is an official amateur triathlon in Espoo\, Finland on 15 August 2026. The event is linked from the Suomen Triathlonliitto competition calendar and the official site describes a renewed event at Oittaan ulkoilualue with standard-distance\, sprint\, supersprint\, try-triathlon\, relay\, adult-and-child\, and children’s races\, welcoming everyone from first-timers to experienced athletes.
LOCATION:Oittaan ulkoilualue\, Espoo
URL:https://sportplan.vercel.app/it/events/oittaa-triathlon-2026-2026-08-15
END:VEVENT
END:VCALENDAR
