BEGIN:VCALENDAR
VERSION:2.0
PRODID:-//SportPlan//Event Calendar//EN
CALSCALE:GREGORIAN
BEGIN:VEVENT
UID:d115267d-68f9-48f3-8c19-14fceb6c57fa@sportplan.local
DTSTAMP:20260420T211218Z
DTSTART;VALUE=DATE:20260808
DTEND;VALUE=DATE:20260809
SUMMARY:Odense Triatlon 2026
DESCRIPTION:Odense Triatlon 2026 is an official amateur triathlon in Odense\, Denmark on 8 August 2026. The event appears in Triatlon Danmark's official 2026 event calendar with children\, club\, and open motion-race categories\, making it a strong federation-source participation event for an undercovered Danish triathlon lane.
LOCATION:Odense
URL:https://sportplan.vercel.app/it/events/odense-triatlon-2026-odense-2026-08-08
END:VEVENT
END:VCALENDAR
