BEGIN:VCALENDAR
VERSION:2.0
PRODID:-//SportPlan//Event Calendar//EN
CALSCALE:GREGORIAN
BEGIN:VEVENT
UID:277ba0a5-26eb-4fee-bd81-dec0669957b1@sportplan.local
DTSTAMP:20260420T224517Z
DTSTART;VALUE=DATE:20261018
DTEND;VALUE=DATE:20261019
SUMMARY:OCEANMAN Ibiza Spain 2026
DESCRIPTION:OCEANMAN Ibiza Spain 2026 is an amateur open-water swimming event in Ibiza\, Balearic Islands\, Spain. The official OCEANMAN event page shows race day on 18 October 2026 with Oceanman 10 km\, Half Oceanman 5 km\, Sprint 2 km\, OCEANKIDS\, and team relay formats plus a linked official registration page.
LOCATION:Ibiza
URL:https://sportplan.vercel.app/it/events/oceanman-ibiza-spain-2026-ibiza-2026-10-18
END:VEVENT
END:VCALENDAR
