BEGIN:VCALENDAR
VERSION:2.0
PRODID:-//SportPlan//Event Calendar//EN
CALSCALE:GREGORIAN
BEGIN:VEVENT
UID:dffe5140-4619-4f06-968a-bf1e0378e166@sportplan.local
DTSTAMP:20260420T211728Z
DTSTART;VALUE=DATE:20261024
DTEND;VALUE=DATE:20261025
SUMMARY:Ocean Lava Lanzarote 2026 — Super Sprint
DESCRIPTION:Ocean Lava Lanzarote 2026 — Super Sprint se celebrará el 24 de octubre de 2026 en Tías\, reuniendo a participantes que buscan una jornada deportiva bien organizada. La prueba propone un recorrido memorable y un ambiente acogedor. Es una excelente oportunidad para disfrutar del ambiente local\, marcarse un objetivo de temporada y vivir el evento con buena energía.
LOCATION:Tías
URL:https://sportplan.vercel.app/it/events/ocean-lava-lanzarote-2026-super-sprint-tias-2026-10-24
END:VEVENT
END:VCALENDAR
