BEGIN:VCALENDAR
VERSION:2.0
PRODID:-//SportPlan//Event Calendar//EN
CALSCALE:GREGORIAN
BEGIN:VEVENT
UID:1c631236-a411-4dc5-986f-0724cc22b204@sportplan.local
DTSTAMP:20260420T211639Z
DTSTART;VALUE=DATE:20261024
DTEND;VALUE=DATE:20261025
SUMMARY:Ocean Lava Lanzarote 2026 — Olímpico individual-individual Olympic
DESCRIPTION:Ocean Lava Lanzarote 2026 — Olímpico individual-individual Olympic se celebrará el 24 de octubre de 2026 en Tías\, reuniendo a participantes que buscan una jornada deportiva bien organizada. La prueba propone un recorrido memorable y un ambiente acogedor. Es una excelente oportunidad para disfrutar del ambiente local\, marcarse un objetivo de temporada y vivir el evento con buena energía.
LOCATION:Tías
URL:https://sportplan.vercel.app/it/events/ocean-lava-lanzarote-2026-olimpico-individual-individual-olympic-tias-2026-10-24
END:VEVENT
END:VCALENDAR
