BEGIN:VCALENDAR
VERSION:2.0
PRODID:-//SportPlan//Event Calendar//EN
CALSCALE:GREGORIAN
BEGIN:VEVENT
UID:5341a5a7-8a9f-425e-9c6c-f6618aed096b@sportplan.local
DTSTAMP:20260421T043734Z
DTSTART;VALUE=DATE:20261114
DTEND;VALUE=DATE:20261115
SUMMARY:NZ Sotheby's International Realty Queenstown Marathon
DESCRIPTION:discovered via Brave web_search on direct World's Marathons New Zealand running event pages\; NZ had only 2 queue entries before this run and was selected to expand standalone New Zealand coverage
LOCATION:New Zealand
URL:https://sportplan.vercel.app/it/events/nz-sotheby-s-international-realty-queenstown-marathon-2026-11-14
END:VEVENT
END:VCALENDAR
