BEGIN:VCALENDAR
VERSION:2.0
PRODID:-//SportPlan//Event Calendar//EN
CALSCALE:GREGORIAN
BEGIN:VEVENT
UID:eaa62cee-8256-48f6-8040-bf0aefe2a961@sportplan.local
DTSTAMP:20260421T014058Z
DTSTART;VALUE=DATE:20260906
DTEND;VALUE=DATE:20260907
SUMMARY:North Shore Marathon | Half Marathon | Quarter Marathon | FUN 5KM | KIDS Mile
DESCRIPTION:North Shore Marathon | Half Marathon | Quarter Marathon | FUN 5KM | KIDS Mile takes place in Auckland on September 6\, 2026\, bringing participants together for a memorable day of sport and atmosphere. Expect an enjoyable event setting\, a motivated field\, and a strong local race-day experience.
LOCATION:Auckland
URL:https://sportplan.vercel.app/it/events/north-shore-marathon-half-marathon-quarter-marathon-fun-5km-kids-mile-auckland-2026-09-06
END:VEVENT
END:VCALENDAR
