BEGIN:VCALENDAR
VERSION:2.0
PRODID:-//SportPlan//Event Calendar//EN
CALSCALE:GREGORIAN
BEGIN:VEVENT
UID:3ecdca30-cb43-41e2-b7dc-f78aa0e07979@sportplan.local
DTSTAMP:20260421T013144Z
DTSTART;VALUE=DATE:20260613
DTEND;VALUE=DATE:20260614
SUMMARY:Nordsjørittet – Cycling Sportive Rogaland
DESCRIPTION:World's Marathons stable event URL for Nordsjørittet\; 13 Jun 2026 date confirmed from official site\; Cloudflare-blocked on fetch but known event URL\; annual cycling sportive Sandnes–Egersund area\; Norway cycling discovery run
LOCATION:Rogaland\, Norway
URL:https://sportplan.vercel.app/it/events/nordsj-rittet-cycling-sportive-rogaland-2026-06-13
END:VEVENT
END:VCALENDAR
