BEGIN:VCALENDAR
VERSION:2.0
PRODID:-//SportPlan//Event Calendar//EN
CALSCALE:GREGORIAN
BEGIN:VEVENT
UID:41ad456d-6211-4cab-9005-5b3a0ef2953c@sportplan.local
DTSTAMP:20260420T194805Z
DTSTART;VALUE=DATE:20260823
DTEND;VALUE=DATE:20260824
SUMMARY:NMDC Hyderabad Marathon & Half Marathon
DESCRIPTION:Official NMDC Hyderabad Marathon 2026 site for the 15th edition in Hyderabad\, with marathon\, half marathon\, 10K\, and 5K race categories and registration information. The site’s structured SportsEvent markup lists the event start date as 23 August 2026 in Hyderabad\, Telangana\, India.
LOCATION:Hyderabad\, India
URL:https://sportplan.vercel.app/it/events/nmdc-hyderabad-marathon-half-marathon-2026-08-23
END:VEVENT
END:VCALENDAR
