BEGIN:VCALENDAR
VERSION:2.0
PRODID:-//SportPlan//Event Calendar//EN
CALSCALE:GREGORIAN
BEGIN:VEVENT
UID:8d3698c2-a937-4db4-a297-ddb9c2d95e34@sportplan.local
DTSTAMP:20260420T211336Z
DTSTART;VALUE=DATE:20261108
DTEND;VALUE=DATE:20261109
SUMMARY:NLB Podgorica Millennium Run 2026
DESCRIPTION:NLB Podgorica Millennium Run 2026 is an official amateur road running event in Podgorica\, Montenegro. The official event site lists race day as 8 November 2026 and offers public-entry 5 km\, 10 km\, half marathon\, and marathon races starting at Most Milenijum\, presenting the event as a city-wide running festival across multiple neighborhoods and bridges of Podgorica.
LOCATION:Podgorica\, Montenegro
URL:https://sportplan.vercel.app/it/events/nlb-podgorica-millennium-run-2026-2026-11-08
END:VEVENT
END:VCALENDAR
