BEGIN:VCALENDAR
VERSION:2.0
PRODID:-//SportPlan//Event Calendar//EN
CALSCALE:GREGORIAN
BEGIN:VEVENT
UID:e1076125-739a-4593-b44f-a7dc91fcf5dc@sportplan.local
DTSTAMP:20260420T194800Z
DTSTART;VALUE=DATE:20260612
DTEND;VALUE=DATE:20260613
SUMMARY:Night Run Estonia - Rakvere
DESCRIPTION:Road running festival discovered via World's Marathons search.
LOCATION:Rakvere\, Estonia
URL:https://sportplan.vercel.app/it/events/night-run-estonia-rakvere-2026-06-12
END:VEVENT
END:VCALENDAR
