BEGIN:VCALENDAR
VERSION:2.0
PRODID:-//SportPlan//Event Calendar//EN
CALSCALE:GREGORIAN
BEGIN:VEVENT
UID:daf20306-aefc-42b2-b491-e2f25714ee2a@sportplan.local
DTSTAMP:20260420T194455Z
DTSTART;VALUE=DATE:20261003
DTEND;VALUE=DATE:20261004
SUMMARY:Nature Marathon
DESCRIPTION:Manual targeted discovery from Brave result\; direct event page with explicit 2026 date.
LOCATION:Třeboň\, Czech Republic
URL:https://sportplan.vercel.app/it/events/nature-marathon-2026-10-03
END:VEVENT
END:VCALENDAR
