BEGIN:VCALENDAR
VERSION:2.0
PRODID:-//SportPlan//Event Calendar//EN
CALSCALE:GREGORIAN
BEGIN:VEVENT
UID:8db19e85-fe91-41ea-858a-b173248d7cb3@sportplan.local
DTSTAMP:20260421T011752Z
DTSTART;VALUE=DATE:20270305
DTEND;VALUE=DATE:20270306
SUMMARY:Nattvasan 90 2027
DESCRIPTION:Nattvasan 90 is an official amateur cross-country ski race during Vasaloppet's winter week. The official Vasaloppet page lists the 2027 event on 5 March 2027 as a 90 km night race from Sälen to Mora\, open to individual entrants or pairs\, with freestyle format and public participation from age 17.
LOCATION:Sälen to Mora\, Dalarna County\, Sweden
URL:https://sportplan.vercel.app/it/events/nattvasan-90-2027
END:VEVENT
END:VCALENDAR
