BEGIN:VCALENDAR
VERSION:2.0
PRODID:-//SportPlan//Event Calendar//EN
CALSCALE:GREGORIAN
BEGIN:VEVENT
UID:b24f087d-35e5-45a6-a4e1-f72875067b1a@sportplan.local
DTSTAMP:20260420T194741Z
DTSTART;VALUE=DATE:20260501
DTEND;VALUE=DATE:20260503
SUMMARY:Muck N' Mac Fest
DESCRIPTION:
LOCATION:Traquair
URL:https://sportplan.vercel.app/it/events/muck-n-mac-fest-traquair-2026-05-01
END:VEVENT
END:VCALENDAR
