BEGIN:VCALENDAR
VERSION:2.0
PRODID:-//SportPlan//Event Calendar//EN
CALSCALE:GREGORIAN
BEGIN:VEVENT
UID:b1c71e79-6c6e-463e-881a-9f1eb721033c@sportplan.local
DTSTAMP:20260420T224302Z
DTSTART;VALUE=DATE:20260605
DTEND;VALUE=DATE:20260606
SUMMARY:MTB-Vättern 2026
DESCRIPTION:MTB-Vättern 2026 is an official amateur mountain-bike event in Motala\, Sweden. The official Vätternrundan organizer page describes it as an entry-level MTB event with 25 km and 50 km options for new and experienced riders\, with the long route using self-seeded pace groups and the event starting in Motala. The rendered official page exposes the 2026 race date as 5 June 2026.
LOCATION:Motala
URL:https://sportplan.vercel.app/it/events/mtb-vattern-2026-motala-2026-06-05
END:VEVENT
END:VCALENDAR
