BEGIN:VCALENDAR
VERSION:2.0
PRODID:-//SportPlan//Event Calendar//EN
CALSCALE:GREGORIAN
BEGIN:VEVENT
UID:c2c2a8b0-3449-41d3-bad5-f4b22ea7392c@sportplan.local
DTSTAMP:20260420T181751Z
DTSTART;VALUE=DATE:20260424
DTEND;VALUE=DATE:20260427
SUMMARY:Mt.Fuji 100 By UTMB
DESCRIPTION:Mt.Fuji 100 By UTMBは4月24日 2026にFujiyoshida\, Yamanashiで開催されます。168kmの距離設定で、記録を狙うランナーにも現地の雰囲気を楽しみたい参加者にも向いています。 記録更新を目指すランナーにも、開催地の雰囲気を味わいながら走りたい参加者にも魅力のあるイベントです。
LOCATION:Fujiyoshida\, Yamanashi
URL:https://sportplan.vercel.app/it/events/mt-fuji-100-by-utmb-fujiyoshida-2026-04-24
END:VEVENT
END:VCALENDAR
