BEGIN:VCALENDAR
VERSION:2.0
PRODID:-//SportPlan//Event Calendar//EN
CALSCALE:GREGORIAN
BEGIN:VEVENT
UID:c24d9186-813d-43be-8e1f-1927f2e29d1a@sportplan.local
DTSTAMP:20260420T195712Z
DTSTART;VALUE=DATE:20261001
DTEND;VALUE=DATE:20261002
SUMMARY:Mount Kinabalu International Climbathon
DESCRIPTION:The official Mount Kinabalu International Climbathon site presents the 2026 edition as the return of the event under Sabah Tourism Board stewardship through Sri Pelancongan Sabah\, staged in Kinabalu Park\, a UNESCO Global Geopark area. The official page positions it as an amateur-enterable mountain-running event centered on Kundasang\, Sabah.
LOCATION:Kundasang\, Sabah
URL:https://sportplan.vercel.app/it/events/mount-kinabalu-international-climbathon-kundasang-2026-10-01-26k
END:VEVENT
END:VCALENDAR
