BEGIN:VCALENDAR
VERSION:2.0
PRODID:-//SportPlan//Event Calendar//EN
CALSCALE:GREGORIAN
BEGIN:VEVENT
UID:3bb5fe81-fe10-4b42-81dd-50865e023ccb@sportplan.local
DTSTAMP:20260420T211103Z
DTSTART;VALUE=DATE:20270314
DTEND;VALUE=DATE:20270315
SUMMARY:Mooloolaba Triathlon
DESCRIPTION:Official event page.
LOCATION:Mooloolaba\, Queensland\, Australia
URL:https://sportplan.vercel.app/it/events/mooloolaba-triathlon-2027-03-14
END:VEVENT
END:VCALENDAR
