BEGIN:VCALENDAR
VERSION:2.0
PRODID:-//SportPlan//Event Calendar//EN
CALSCALE:GREGORIAN
BEGIN:VEVENT
UID:f3e4aca1-6b83-4b84-ba4d-72c06a1102f5@sportplan.local
DTSTAMP:20260420T200806Z
DTSTART;VALUE=DATE:20260510
DTEND;VALUE=DATE:20260511
SUMMARY:Monttrail los Yebenes 2026. — 7 K 7K
DESCRIPTION:Monttrail los Yebenes 2026. — 7 K 7K se celebra en Toledo el 10 de mayo de 2026\, reuniendo a corredores en un ambiente lleno de energía. El recorrido pone en valor el entorno natural de Toledo a lo largo de 7 km\, ideal para quienes disfrutan del trail y la aventura.
LOCATION:Toledo
URL:https://sportplan.vercel.app/it/events/monttrail-los-yebenes-2026-7-k-7k-toledo-2026-05-10
END:VEVENT
END:VCALENDAR
