BEGIN:VCALENDAR
VERSION:2.0
PRODID:-//SportPlan//Event Calendar//EN
CALSCALE:GREGORIAN
BEGIN:VEVENT
UID:c61064be-565e-41d9-b888-5f420dfd85da@sportplan.local
DTSTAMP:20260420T200908Z
DTSTART;VALUE=DATE:20260510
DTEND;VALUE=DATE:20260511
SUMMARY:Monttrail los Yebenes 2026. — 15 K 15K
DESCRIPTION:Monttrail los Yebenes 2026. — 15 K 15K se celebra en Toledo el 10 de mayo de 2026\, reuniendo a corredores en un ambiente lleno de energía. El recorrido pone en valor el entorno natural de Toledo a lo largo de 15 km\, ideal para quienes disfrutan del trail y la aventura.
LOCATION:Toledo
URL:https://sportplan.vercel.app/it/events/monttrail-los-yebenes-2026-15-k-15k-toledo-2026-05-10
END:VEVENT
END:VCALENDAR
