BEGIN:VCALENDAR
VERSION:2.0
PRODID:-//SportPlan//Event Calendar//EN
CALSCALE:GREGORIAN
BEGIN:VEVENT
UID:0b2aed0e-8a8e-41ae-a3ff-5d680d3c6c61@sportplan.local
DTSTAMP:20260420T195015Z
DTSTART;VALUE=DATE:20260510
DTEND;VALUE=DATE:20260511
SUMMARY:Montanaro Trail
DESCRIPTION:Montanaro Trail si svolge a San Marcello Pistoiese il 10 maggio 2026\, offrendo un'atmosfera coinvolgente per runner di tutti i livelli. Il percorso valorizza l'ambiente naturale di San Marcello Pistoiese\, perfetto per chi ama trail e avventura.
LOCATION:San Marcello Pistoiese
URL:https://sportplan.vercel.app/it/events/montanaro-trail-san-marcello-pistoiese-2026-05-10
END:VEVENT
END:VCALENDAR
