BEGIN:VCALENDAR
VERSION:2.0
PRODID:-//SportPlan//Event Calendar//EN
CALSCALE:GREGORIAN
BEGIN:VEVENT
UID:1814d432-ae43-43d1-9fae-72863acc0ad8@sportplan.local
DTSTAMP:20260420T211355Z
DTSTART;VALUE=DATE:20260920
DTEND;VALUE=DATE:20260921
SUMMARY:Monção e Melgaço Granfondo 2026
DESCRIPTION:Monção e Melgaço Granfondo 2026 is an official amateur road cycling granfondo in Monção\, Portugal on 20 September 2026. The official organizer page presents three distances\, 57 km minifondo\, 93 km mediofondo and 123 km granfondo\, across Alto Minho landscapes around Monção and Melgaço\, with routes through places such as Pomares\, Fiães\, Tangil\, Merufe\, Longos Vales and Senhor do Bonfim.
LOCATION:Monção\, Viana do Castelo\, Portugal
URL:https://sportplan.vercel.app/it/events/moncao-e-melgaco-granfondo-2026-moncao-2026-09-20
END:VEVENT
END:VCALENDAR
