BEGIN:VCALENDAR
VERSION:2.0
PRODID:-//SportPlan//Event Calendar//EN
CALSCALE:GREGORIAN
BEGIN:VEVENT
UID:ea5026aa-db85-4c12-a408-658af822731a@sportplan.local
DTSTAMP:20260420T194920Z
DTSTART;VALUE=DATE:20260426
DTEND;VALUE=DATE:20260427
SUMMARY:Miut Madeira 42K 2026
DESCRIPTION:Miut Madeira 42K 2026 acontece em 26 de abril de 2026 em Porto Moniz\, Madeira. É uma ótima opção para quem procura um evento bem organizado em um ambiente atrativo. O percurso cobre aproximadamente 42 km. Consulte as informações oficiais do organizador para horários\, retirada de kit e detalhes logísticos.
LOCATION:Porto Moniz\, Madeira
URL:https://sportplan.vercel.app/it/events/miut-madeira-42k-2026-porto-moniz-2026-04-26
END:VEVENT
END:VCALENDAR
