BEGIN:VCALENDAR
VERSION:2.0
PRODID:-//SportPlan//Event Calendar//EN
CALSCALE:GREGORIAN
BEGIN:VEVENT
UID:b1a3fe29-9b05-4839-941a-bb37d70c0a6a@sportplan.local
DTSTAMP:20260420T194919Z
DTSTART;VALUE=DATE:20260426
DTEND;VALUE=DATE:20260427
SUMMARY:Miut Madeira 16K 2026
DESCRIPTION:Miut Madeira 16K 2026 acontece em 26 de abril de 2026 em Porto Moniz\, Madeira. É uma ótima opção para quem procura um evento bem organizado em um ambiente atrativo. O percurso cobre aproximadamente 16 km. Consulte as informações oficiais do organizador para horários\, retirada de kit e detalhes logísticos.
LOCATION:Porto Moniz\, Madeira
URL:https://sportplan.vercel.app/it/events/miut-madeira-16k-2026-porto-moniz-2026-04-26
END:VEVENT
END:VCALENDAR
