BEGIN:VCALENDAR
VERSION:2.0
PRODID:-//SportPlan//Event Calendar//EN
CALSCALE:GREGORIAN
BEGIN:VEVENT
UID:8573cb8d-a1aa-478c-8eff-8cb6e4d6211b@sportplan.local
DTSTAMP:20260420T195008Z
DTSTART;VALUE=DATE:20260627
DTEND;VALUE=DATE:20260628
SUMMARY:Midzomermarathon Apeldoorn
DESCRIPTION:Midzomermarathon Apeldoorn vindt plaats op 2026-06-27 in Apeldoorn. Dit is een sterke keuze voor deelnemers die een goed georganiseerd sportevenement in een aantrekkelijke omgeving zoeken. Het evenement spreekt zowel fanatieke deelnemers als liefhebbers van een goede sfeer aan.
LOCATION:Apeldoorn
URL:https://sportplan.vercel.app/it/events/midzomermarathon-apeldoorn-apeldoorn-2026-06-27
END:VEVENT
END:VCALENDAR
