BEGIN:VCALENDAR
VERSION:2.0
PRODID:-//SportPlan//Event Calendar//EN
CALSCALE:GREGORIAN
BEGIN:VEVENT
UID:f0bb3108-4701-4261-9fef-6f6e2e897224@sportplan.local
DTSTAMP:20260420T194417Z
DTSTART;VALUE=DATE:20260705
DTEND;VALUE=DATE:20260706
SUMMARY:Midsummer Challenge - Võsu 2026
DESCRIPTION:Midsummer Challenge - Võsu 2026 is an official amateur running event in Võsu\, Estonia\, scheduled for 5 July 2026. The official Eestimaraton organizer page lists public-entry Children's Run 0.2 km\, Family Run 1 km\, 4 km\, and Neptunas 10 km distances in Võsu\, plus virtual options.
LOCATION:Võsu\, Estonia
URL:https://sportplan.vercel.app/it/events/midsummer-challenge-vosu-2026-07-05
END:VEVENT
END:VCALENDAR
