BEGIN:VCALENDAR
VERSION:2.0
PRODID:-//SportPlan//Event Calendar//EN
CALSCALE:GREGORIAN
BEGIN:VEVENT
UID:6775f789-194a-496f-a3af-46d15ab8259d@sportplan.local
DTSTAMP:20260421T012859Z
DTSTART;VALUE=DATE:20260620
DTEND;VALUE=DATE:20260621
SUMMARY:Midnight Sun Marathon Tromsø 2026
DESCRIPTION:Midnight Sun Marathon Tromsø 2026 arrangeres 20 juni 2026 i Tromsø\, Troms. Dette er en fin anledning til å oppleve stemningen på stedet og dele dagen med andre deltakere og tilskuere. Den oppgitte distansen er 42.2 km\, noe som gir et tydelig mål å forberede seg mot.
LOCATION:Tromsø\, Troms
URL:https://sportplan.vercel.app/it/events/midnight-sun-marathon-troms-2026-troms-2026-06-20
END:VEVENT
END:VCALENDAR
